BEGIN:VCALENDAR
VERSION:2.0
PRODID:-//Mountain Home - ECPv6.15.16//NONSGML v1.0//EN
CALSCALE:GREGORIAN
METHOD:PUBLISH
X-WR-CALNAME:Mountain Home
X-ORIGINAL-URL:https://mountainhomemac.org
X-WR-CALDESC:Events for Mountain Home
REFRESH-INTERVAL;VALUE=DURATION:PT1H
X-Robots-Tag:noindex
X-PUBLISHED-TTL:PT1H
BEGIN:VTIMEZONE
TZID:UTC
BEGIN:STANDARD
TZOFFSETFROM:+0000
TZOFFSETTO:+0000
TZNAME:UTC
DTSTART:20250101T000000
END:STANDARD
END:VTIMEZONE
BEGIN:VEVENT
DTSTART;TZID=UTC:20261112T171500
DTEND;TZID=UTC:20261112T183000
DTSTAMP:20260419T231014
CREATED:20260108T175150Z
LAST-MODIFIED:20260108T175150Z
UID:2700-1794503700-1794508200@mountainhomemac.org
SUMMARY:November's MAC Board Meeting
DESCRIPTION:Monthly MAC Executive Board Meeting \nThe Mountain Home Military Affairs Committee (MAC) holds its Executive Board Meeting monthly to guide and advance efforts in support of Mountain Home Air Force Base\, service members\, their families\, and the greater Elmore County community. \nWhat to Expect: \nThese meetings bring together MAC leadership\, task force chairs\, and key community stakeholders to: \nHear updates and actionable items from each task force (Housing\, Education\, Childcare\, Employment\, and Healthcare)\nReview ongoing and new initiatives\, including workforce programs\, legislative advocacy\, and community resource development\nRecap recent events such as job fairs or socials\, and coordinate upcoming ones\nDiscuss financials\, approve funding requests\, and manage committee logistics\nStrengthen partnerships with city\, county\, and base representatives\nAllow time for open discussion\, questions\, and collaboration \nWho Should Attend:\nBoard members\, task force leads\, invited guests\, and community partners committed to improving the quality of life for our military families and supporting regional growth. \nYour voice matters—join us as we work together to build a stronger\, more connected community \n 
URL:https://mountainhomemac.org/event/novembers-mac-board-meeting/
LOCATION:ID
ORGANIZER;CN="Mountain Home Military Affairs Committee":MAILTO:info@mountainhomemac.org
END:VEVENT
BEGIN:VEVENT
DTSTART;TZID=UTC:20261118T120000
DTEND;TZID=UTC:20261118T130000
DTSTAMP:20260419T231014
CREATED:20260108T175317Z
LAST-MODIFIED:20260108T175317Z
UID:2702-1795003200-1795006800@mountainhomemac.org
SUMMARY:November's MAC Luncheon
DESCRIPTION:
URL:https://mountainhomemac.org/event/novembers-mac-luncheon-2/
LOCATION:ID
ORGANIZER;CN="Mountain Home Military Affairs Committee":MAILTO:info@mountainhomemac.org
END:VEVENT
END:VCALENDAR