BEGIN:VCALENDAR
VERSION:2.0
PRODID:-//Mountain Home - ECPv6.15.16//NONSGML v1.0//EN
CALSCALE:GREGORIAN
METHOD:PUBLISH
X-WR-CALNAME:Mountain Home
X-ORIGINAL-URL:https://mountainhomemac.org
X-WR-CALDESC:Events for Mountain Home
REFRESH-INTERVAL;VALUE=DURATION:PT1H
X-Robots-Tag:noindex
X-PUBLISHED-TTL:PT1H
BEGIN:VTIMEZONE
TZID:UTC
BEGIN:STANDARD
TZOFFSETFROM:+0000
TZOFFSETTO:+0000
TZNAME:UTC
DTSTART:20250101T000000
END:STANDARD
END:VTIMEZONE
BEGIN:VEVENT
DTSTART;TZID=UTC:20260422T120000
DTEND;TZID=UTC:20260422T130000
DTSTAMP:20260419T125832
CREATED:20260108T171530Z
LAST-MODIFIED:20260108T171530Z
UID:2668-1776859200-1776862800@mountainhomemac.org
SUMMARY:April's MAC Luncheon
DESCRIPTION:
URL:https://mountainhomemac.org/event/aprils-mac-luncheon/
LOCATION:ID
ORGANIZER;CN="Mountain Home Military Affairs Committee":MAILTO:info@mountainhomemac.org
END:VEVENT
BEGIN:VEVENT
DTSTART;TZID=UTC:20260429T170000
DTEND;TZID=UTC:20260429T190000
DTSTAMP:20260419T125832
CREATED:20260417T170751Z
LAST-MODIFIED:20260417T170751Z
UID:2911-1777482000-1777489200@mountainhomemac.org
SUMMARY:MAC Social Event
DESCRIPTION:
URL:https://mountainhomemac.org/event/mac-social-event/
LOCATION:Main Street Banquet Room\, 190 E 2nd N\, Mountain Home\, ID\, 83647\, United States
ORGANIZER;CN="Mountain Home Military Affairs Committee":MAILTO:info@mountainhomemac.org
END:VEVENT
BEGIN:VEVENT
DTSTART;TZID=UTC:20260521T171500
DTEND;TZID=UTC:20260521T183000
DTSTAMP:20260419T125832
CREATED:20260108T172216Z
LAST-MODIFIED:20260108T172216Z
UID:2672-1779383700-1779388200@mountainhomemac.org
SUMMARY:May's MAC Board Meeting
DESCRIPTION:Monthly MAC Executive Board Meeting \nThe Mountain Home Military Affairs Committee (MAC) holds its Executive Board Meeting monthly to guide and advance efforts in support of Mountain Home Air Force Base\, service members\, their families\, and the greater Elmore County community. \nWhat to Expect: \nThese meetings bring together MAC leadership\, task force chairs\, and key community stakeholders to: \nHear updates and actionable items from each task force (Housing\, Education\, Childcare\, Employment\, and Healthcare)\nReview ongoing and new initiatives\, including workforce programs\, legislative advocacy\, and community resource development\nRecap recent events such as job fairs or socials\, and coordinate upcoming ones\nDiscuss financials\, approve funding requests\, and manage committee logistics\nStrengthen partnerships with city\, county\, and base representatives\nAllow time for open discussion\, questions\, and collaboration \nWho Should Attend:\nBoard members\, task force leads\, invited guests\, and community partners committed to improving the quality of life for our military families and supporting regional growth. \nYour voice matters—join us as we work together to build a stronger\, more connected community
URL:https://mountainhomemac.org/event/mays-mac-board-meeting-2/
LOCATION:ID
ORGANIZER;CN="Mountain Home Military Affairs Committee":MAILTO:info@mountainhomemac.org
END:VEVENT
BEGIN:VEVENT
DTSTART;TZID=UTC:20260527T080000
DTEND;TZID=UTC:20260527T170000
DTSTAMP:20260419T125832
CREATED:20260108T172408Z
LAST-MODIFIED:20260108T172408Z
UID:2674-1779868800-1779901200@mountainhomemac.org
SUMMARY:May's MAC Luncheon
DESCRIPTION:
URL:https://mountainhomemac.org/event/mays-mac-luncheon-2/
LOCATION:ID
ORGANIZER;CN="Mountain Home Military Affairs Committee":MAILTO:info@mountainhomemac.org
END:VEVENT
BEGIN:VEVENT
DTSTART;TZID=UTC:20260606T110000
DTEND;TZID=UTC:20260606T170000
DTSTAMP:20260419T125832
CREATED:20260108T172637Z
LAST-MODIFIED:20260108T172637Z
UID:2676-1780743600-1780765200@mountainhomemac.org
SUMMARY:MAC Annual Golf Tournament
DESCRIPTION:
URL:https://mountainhomemac.org/event/mac-annual-golf-tournament/
LOCATION:Silver Sage Golf Course\, 435 First Ave\, Mountain Home AFB\, 83648\, United States
ORGANIZER;CN="Mountain Home Military Affairs Committee":MAILTO:info@mountainhomemac.org
END:VEVENT
BEGIN:VEVENT
DTSTART;TZID=UTC:20260618T171500
DTEND;TZID=UTC:20260618T183000
DTSTAMP:20260419T125832
CREATED:20260108T173310Z
LAST-MODIFIED:20260108T173333Z
UID:2678-1781802900-1781807400@mountainhomemac.org
SUMMARY:June's MAC Board Meeting
DESCRIPTION:Monthly MAC Executive Board Meeting \nThe Mountain Home Military Affairs Committee (MAC) holds its Executive Board Meeting monthly to guide and advance efforts in support of Mountain Home Air Force Base\, service members\, their families\, and the greater Elmore County community. \nWhat to Expect: \nThese meetings bring together MAC leadership\, task force chairs\, and key community stakeholders to: \nHear updates and actionable items from each task force (Housing\, Education\, Childcare\, Employment\, and Healthcare)\nReview ongoing and new initiatives\, including workforce programs\, legislative advocacy\, and community resource development\nRecap recent events such as job fairs or socials\, and coordinate upcoming ones\nDiscuss financials\, approve funding requests\, and manage committee logistics\nStrengthen partnerships with city\, county\, and base representatives\nAllow time for open discussion\, questions\, and collaboration \nWho Should Attend:\nBoard members\, task force leads\, invited guests\, and community partners committed to improving the quality of life for our military families and supporting regional growth. \nYour voice matters—join us as we work together to build a stronger\, more connected community
URL:https://mountainhomemac.org/event/junes-mac-board-meeting-2/
LOCATION:ID
ORGANIZER;CN="Mountain Home Military Affairs Committee":MAILTO:info@mountainhomemac.org
END:VEVENT
BEGIN:VEVENT
DTSTART;TZID=UTC:20260624T120000
DTEND;TZID=UTC:20260624T130000
DTSTAMP:20260419T125832
CREATED:20260108T173529Z
LAST-MODIFIED:20260108T173529Z
UID:2680-1782302400-1782306000@mountainhomemac.org
SUMMARY:June's MAC Luncheon
DESCRIPTION:
URL:https://mountainhomemac.org/event/junes-mac-luncheon-2/
LOCATION:ID
ORGANIZER;CN="Mountain Home Military Affairs Committee":MAILTO:info@mountainhomemac.org
END:VEVENT
BEGIN:VEVENT
DTSTART;TZID=UTC:20260716T171500
DTEND;TZID=UTC:20260716T183000
DTSTAMP:20260419T125832
CREATED:20260108T173636Z
LAST-MODIFIED:20260108T173636Z
UID:2682-1784222100-1784226600@mountainhomemac.org
SUMMARY:July's MAC Board Meeting
DESCRIPTION:Monthly MAC Executive Board Meeting \nThe Mountain Home Military Affairs Committee (MAC) holds its Executive Board Meeting monthly to guide and advance efforts in support of Mountain Home Air Force Base\, service members\, their families\, and the greater Elmore County community. \nWhat to Expect: \nThese meetings bring together MAC leadership\, task force chairs\, and key community stakeholders to: \nHear updates and actionable items from each task force (Housing\, Education\, Childcare\, Employment\, and Healthcare)\nReview ongoing and new initiatives\, including workforce programs\, legislative advocacy\, and community resource development\nRecap recent events such as job fairs or socials\, and coordinate upcoming ones\nDiscuss financials\, approve funding requests\, and manage committee logistics\nStrengthen partnerships with city\, county\, and base representatives\nAllow time for open discussion\, questions\, and collaboration \nWho Should Attend:\nBoard members\, task force leads\, invited guests\, and community partners committed to improving the quality of life for our military families and supporting regional growth. \nYour voice matters—join us as we work together to build a stronger\, more connected community
URL:https://mountainhomemac.org/event/julys-mac-board-meeting-2/
LOCATION:ID
ORGANIZER;CN="Mountain Home Military Affairs Committee":MAILTO:info@mountainhomemac.org
END:VEVENT
BEGIN:VEVENT
DTSTART;TZID=UTC:20260722T120000
DTEND;TZID=UTC:20260722T130000
DTSTAMP:20260419T125832
CREATED:20260108T173752Z
LAST-MODIFIED:20260108T173752Z
UID:2684-1784721600-1784725200@mountainhomemac.org
SUMMARY:July's MAC Luncheon
DESCRIPTION:
URL:https://mountainhomemac.org/event/julys-mac-luncheon-2/
LOCATION:ID
ORGANIZER;CN="Mountain Home Military Affairs Committee":MAILTO:info@mountainhomemac.org
END:VEVENT
BEGIN:VEVENT
DTSTART;TZID=UTC:20260820T171500
DTEND;TZID=UTC:20260820T183000
DTSTAMP:20260419T125832
CREATED:20260108T173953Z
LAST-MODIFIED:20260108T174343Z
UID:2686-1787246100-1787250600@mountainhomemac.org
SUMMARY:August's MAC Board Meeting
DESCRIPTION:Monthly MAC Executive Board Meeting \nThe Mountain Home Military Affairs Committee (MAC) holds its Executive Board Meeting monthly to guide and advance efforts in support of Mountain Home Air Force Base\, service members\, their families\, and the greater Elmore County community. \nWhat to Expect: \nThese meetings bring together MAC leadership\, task force chairs\, and key community stakeholders to: \nHear updates and actionable items from each task force (Housing\, Education\, Childcare\, Employment\, and Healthcare)\nReview ongoing and new initiatives\, including workforce programs\, legislative advocacy\, and community resource development\nRecap recent events such as job fairs or socials\, and coordinate upcoming ones\nDiscuss financials\, approve funding requests\, and manage committee logistics\nStrengthen partnerships with city\, county\, and base representatives\nAllow time for open discussion\, questions\, and collaboration \nWho Should Attend:\nBoard members\, task force leads\, invited guests\, and community partners committed to improving the quality of life for our military families and supporting regional growth. \nYour voice matters—join us as we work together to build a stronger\, more connected community
URL:https://mountainhomemac.org/event/augusts-mac-board-meeting-2/
LOCATION:ID
ORGANIZER;CN="Mountain Home Military Affairs Committee":MAILTO:info@mountainhomemac.org
END:VEVENT
BEGIN:VEVENT
DTSTART;TZID=UTC:20260826T120000
DTEND;TZID=UTC:20260826T130000
DTSTAMP:20260419T125832
CREATED:20260108T174120Z
LAST-MODIFIED:20260108T174120Z
UID:2688-1787745600-1787749200@mountainhomemac.org
SUMMARY:August's MAC Luncheon
DESCRIPTION:
URL:https://mountainhomemac.org/event/augusts-mac-luncheon-2/
LOCATION:ID
ORGANIZER;CN="Mountain Home Military Affairs Committee":MAILTO:info@mountainhomemac.org
END:VEVENT
BEGIN:VEVENT
DTSTART;TZID=UTC:20260912T080000
DTEND;TZID=UTC:20260912T170000
DTSTAMP:20260419T125832
CREATED:20260108T174243Z
LAST-MODIFIED:20260108T174243Z
UID:2690-1789200000-1789232400@mountainhomemac.org
SUMMARY:MAC's AFAD Volleyball
DESCRIPTION:Information to follow!
URL:https://mountainhomemac.org/event/macs-afad-volleyball/
LOCATION:Carl Miller Park\, Corner of American Legion Blvd and N 10th E St\, Mountain Home\, ID\, 83647\, United States
ORGANIZER;CN="Mountain Home Military Affairs Committee":MAILTO:info@mountainhomemac.org
END:VEVENT
BEGIN:VEVENT
DTSTART;TZID=UTC:20260917T171500
DTEND;TZID=UTC:20260917T183000
DTSTAMP:20260419T125832
CREATED:20260108T174528Z
LAST-MODIFIED:20260108T174528Z
UID:2692-1789665300-1789669800@mountainhomemac.org
SUMMARY:September's MAC Board Meeting
DESCRIPTION:Monthly MAC Executive Board Meeting \nThe Mountain Home Military Affairs Committee (MAC) holds its Executive Board Meeting monthly to guide and advance efforts in support of Mountain Home Air Force Base\, service members\, their families\, and the greater Elmore County community. \nWhat to Expect: \nThese meetings bring together MAC leadership\, task force chairs\, and key community stakeholders to: \nHear updates and actionable items from each task force (Housing\, Education\, Childcare\, Employment\, and Healthcare)\nReview ongoing and new initiatives\, including workforce programs\, legislative advocacy\, and community resource development\nRecap recent events such as job fairs or socials\, and coordinate upcoming ones\nDiscuss financials\, approve funding requests\, and manage committee logistics\nStrengthen partnerships with city\, county\, and base representatives\nAllow time for open discussion\, questions\, and collaboration \nWho Should Attend:\nBoard members\, task force leads\, invited guests\, and community partners committed to improving the quality of life for our military families and supporting regional growth. \nYour voice matters—join us as we work together to build a stronger\, more connected community
URL:https://mountainhomemac.org/event/septembers-mac-board-meeting-2/
LOCATION:ID
ORGANIZER;CN="Mountain Home Military Affairs Committee":MAILTO:info@mountainhomemac.org
END:VEVENT
BEGIN:VEVENT
DTSTART;TZID=UTC:20260923T120000
DTEND;TZID=UTC:20260923T130000
DTSTAMP:20260419T125832
CREATED:20260108T174622Z
LAST-MODIFIED:20260108T174622Z
UID:2694-1790164800-1790168400@mountainhomemac.org
SUMMARY:September's MAC Luncheon
DESCRIPTION:
URL:https://mountainhomemac.org/event/septembers-mac-luncheon-2/
LOCATION:ID
ORGANIZER;CN="Mountain Home Military Affairs Committee":MAILTO:info@mountainhomemac.org
END:VEVENT
BEGIN:VEVENT
DTSTART;TZID=UTC:20261022T171500
DTEND;TZID=UTC:20261022T183000
DTSTAMP:20260419T125832
CREATED:20260108T174918Z
LAST-MODIFIED:20260108T174918Z
UID:2696-1792689300-1792693800@mountainhomemac.org
SUMMARY:October's MAC Board Meeting
DESCRIPTION:Monthly MAC Executive Board Meeting \nThe Mountain Home Military Affairs Committee (MAC) holds its Executive Board Meeting monthly to guide and advance efforts in support of Mountain Home Air Force Base\, service members\, their families\, and the greater Elmore County community. \nWhat to Expect: \nThese meetings bring together MAC leadership\, task force chairs\, and key community stakeholders to: \nHear updates and actionable items from each task force (Housing\, Education\, Childcare\, Employment\, and Healthcare)\nReview ongoing and new initiatives\, including workforce programs\, legislative advocacy\, and community resource development\nRecap recent events such as job fairs or socials\, and coordinate upcoming ones\nDiscuss financials\, approve funding requests\, and manage committee logistics\nStrengthen partnerships with city\, county\, and base representatives\nAllow time for open discussion\, questions\, and collaboration \nWho Should Attend:\nBoard members\, task force leads\, invited guests\, and community partners committed to improving the quality of life for our military families and supporting regional growth. \nYour voice matters—join us as we work together to build a stronger\, more connected community
URL:https://mountainhomemac.org/event/octobers-mac-board-meeting-2/
LOCATION:ID
ORGANIZER;CN="Mountain Home Military Affairs Committee":MAILTO:info@mountainhomemac.org
END:VEVENT
BEGIN:VEVENT
DTSTART;TZID=UTC:20261028T120000
DTEND;TZID=UTC:20261028T130000
DTSTAMP:20260419T125832
CREATED:20260108T175022Z
LAST-MODIFIED:20260108T175022Z
UID:2698-1793188800-1793192400@mountainhomemac.org
SUMMARY:October's MAC Luncheon
DESCRIPTION:
URL:https://mountainhomemac.org/event/octobers-mac-luncheon-2/
LOCATION:ID
ORGANIZER;CN="Mountain Home Military Affairs Committee":MAILTO:info@mountainhomemac.org
END:VEVENT
BEGIN:VEVENT
DTSTART;TZID=UTC:20261112T171500
DTEND;TZID=UTC:20261112T183000
DTSTAMP:20260419T125832
CREATED:20260108T175150Z
LAST-MODIFIED:20260108T175150Z
UID:2700-1794503700-1794508200@mountainhomemac.org
SUMMARY:November's MAC Board Meeting
DESCRIPTION:Monthly MAC Executive Board Meeting \nThe Mountain Home Military Affairs Committee (MAC) holds its Executive Board Meeting monthly to guide and advance efforts in support of Mountain Home Air Force Base\, service members\, their families\, and the greater Elmore County community. \nWhat to Expect: \nThese meetings bring together MAC leadership\, task force chairs\, and key community stakeholders to: \nHear updates and actionable items from each task force (Housing\, Education\, Childcare\, Employment\, and Healthcare)\nReview ongoing and new initiatives\, including workforce programs\, legislative advocacy\, and community resource development\nRecap recent events such as job fairs or socials\, and coordinate upcoming ones\nDiscuss financials\, approve funding requests\, and manage committee logistics\nStrengthen partnerships with city\, county\, and base representatives\nAllow time for open discussion\, questions\, and collaboration \nWho Should Attend:\nBoard members\, task force leads\, invited guests\, and community partners committed to improving the quality of life for our military families and supporting regional growth. \nYour voice matters—join us as we work together to build a stronger\, more connected community \n 
URL:https://mountainhomemac.org/event/novembers-mac-board-meeting/
LOCATION:ID
ORGANIZER;CN="Mountain Home Military Affairs Committee":MAILTO:info@mountainhomemac.org
END:VEVENT
BEGIN:VEVENT
DTSTART;TZID=UTC:20261118T120000
DTEND;TZID=UTC:20261118T130000
DTSTAMP:20260419T125832
CREATED:20260108T175317Z
LAST-MODIFIED:20260108T175317Z
UID:2702-1795003200-1795006800@mountainhomemac.org
SUMMARY:November's MAC Luncheon
DESCRIPTION:
URL:https://mountainhomemac.org/event/novembers-mac-luncheon-2/
LOCATION:ID
ORGANIZER;CN="Mountain Home Military Affairs Committee":MAILTO:info@mountainhomemac.org
END:VEVENT
END:VCALENDAR